BEGIN:VCALENDAR
VERSION:2.0
PRODID:-//REAP Marlborough - ECPv5.1.1//NONSGML v1.0//EN
CALSCALE:GREGORIAN
METHOD:PUBLISH
X-WR-CALNAME:REAP Marlborough
X-ORIGINAL-URL:https://reapmarlborough.co.nz
X-WR-CALDESC:Events for REAP Marlborough
BEGIN:VTIMEZONE
TZID:Pacific/Auckland
BEGIN:STANDARD
TZOFFSETFROM:+1300
TZOFFSETTO:+1200
TZNAME:NZST
DTSTART:20200404T140000
END:STANDARD
BEGIN:DAYLIGHT
TZOFFSETFROM:+1200
TZOFFSETTO:+1300
TZNAME:NZDT
DTSTART:20200926T140000
END:DAYLIGHT
END:VTIMEZONE
BEGIN:VEVENT
DTSTART;TZID=Pacific/Auckland:20201031T090000
DTEND;TZID=Pacific/Auckland:20201031T130000
DTSTAMP:20210121T003509
CREATED:20200928T015521Z
LAST-MODIFIED:20200929T041957Z
UID:354-1604134800-1604149200@reapmarlborough.co.nz
SUMMARY:Chainsaw Safety and Maintenance
DESCRIPTION:
URL:https://reapmarlborough.co.nz/event/chainsaw-safety-and-maintenance/
LOCATION:247 Vickerman St\, Grovetown
CATEGORIES:Community Education
END:VEVENT
END:VCALENDAR