BEGIN:VCALENDAR
VERSION:2.0
PRODID:-//REAP Marlborough - ECPv5.1.1//NONSGML v1.0//EN
CALSCALE:GREGORIAN
METHOD:PUBLISH
X-WR-CALNAME:REAP Marlborough
X-ORIGINAL-URL:https://reapmarlborough.co.nz
X-WR-CALDESC:Events for REAP Marlborough
BEGIN:VTIMEZONE
TZID:Pacific/Auckland
BEGIN:STANDARD
TZOFFSETFROM:+1300
TZOFFSETTO:+1200
TZNAME:NZST
DTSTART:20200404T140000
END:STANDARD
BEGIN:DAYLIGHT
TZOFFSETFROM:+1200
TZOFFSETTO:+1300
TZNAME:NZDT
DTSTART:20200926T140000
END:DAYLIGHT
END:VTIMEZONE
BEGIN:VEVENT
DTSTART;TZID=Pacific/Auckland:20201107T190000
DTEND;TZID=Pacific/Auckland:20201107T210000
DTSTAMP:20210121T003744
CREATED:20200927T221337Z
LAST-MODIFIED:20200929T041939Z
UID:331-1604775600-1604782800@reapmarlborough.co.nz
SUMMARY:Night Sky Photography
DESCRIPTION:
URL:https://reapmarlborough.co.nz/event/night-sky-photography/
LOCATION:Marfells Beach\, Marfells Beach\, Seddon\, Marlborough\, New Zealand
CATEGORIES:Community Education
END:VEVENT
END:VCALENDAR